BEGIN:VCALENDAR
VERSION:2.0
CALSCALE:GREGORIAN
PRODID:-//Diputació de Barcelona//DibaCMS//EN
BEGIN:VEVENT
UID:907
DTSTAMP:20260420T060451
DTSTART:20160710T110000
DTEND:20160710T140000
SUMMARY:Mulla't per l'esclerosi múltiple 
LOCATION:
METHOD:PUBLISH
X-WR-CALNAME:capellades@capellades.cat
X-WR-TIMEZONE:Europe/Madrid
DESCRIPTION:

URI:https://www.capellades.cat/actualitat/agenda/mullat-per-lesclerosi-multiple-.html
CLASS:PUBLIC
END:VEVENT
END:VCALENDAR
