BEGIN:VCALENDAR
VERSION:2.0
CALSCALE:GREGORIAN
PRODID:-//Diputació de Barcelona//DibaCMS//EN
BEGIN:VEVENT
UID:901
DTSTAMP:20260420T071526
DTSTART:20160708T220000
DTEND:20160708T000000
SUMMARY:Liceu a la Fresca amb la Bohème
LOCATION:
METHOD:PUBLISH
X-WR-CALNAME:capellades@capellades.cat
X-WR-TIMEZONE:Europe/Madrid
DESCRIPTION:

URI:https://www.capellades.cat/actualitat/agenda/liceu-a-la-fresca-amb-la-boheme.html
CLASS:PUBLIC
END:VEVENT
END:VCALENDAR
