BEGIN:VCALENDAR
VERSION:2.0
CALSCALE:GREGORIAN
PRODID:-//Diputació de Barcelona//DibaCMS//EN
BEGIN:VEVENT
UID:899
DTSTAMP:20260420T091852
DTSTART:20160707T190000
DTEND:20160707T000000
SUMMARY:La Lliga de jocs 
LOCATION:
METHOD:PUBLISH
X-WR-CALNAME:capellades@capellades.cat
X-WR-TIMEZONE:Europe/Madrid
DESCRIPTION:LA LLIGA DE JOCS

Us proposem un nou taller per a les llargues tardes d'estiu. Aquesta vegada recomanat per a joves.
Aquest taller, conduït per César Ramírez, tindrà una durada de 4 sessions: tots els dijous de juliol.
Cada dijous es presentarà i s'aprendrà a jugar a un joc diferent.
Preu del taller : gratuït

I comencem amb: "DIXIT"
Dixit és un “party game” i també és un joc familiar. Va ser premiat com a Joc de l'any 2009 a Espanya i com a Joc de l'any 2010 a Alemanya.
Fomenta el diàleg grupal, la creativitat i la imaginació. Els dibuixos són exquisits, gairebé són cartes per emmarcar.
La diversió està assegurada!!!

 

NOU US HO PERDEU..!



URI:https://www.capellades.cat/actualitat/agenda/la-lliga-de-jocs-.html
CLASS:PUBLIC
END:VEVENT
END:VCALENDAR
