BEGIN:VCALENDAR
VERSION:2.0
CALSCALE:GREGORIAN
PRODID:-//Diputació de Barcelona//DibaCMS//EN
BEGIN:VEVENT
UID:898
DTSTAMP:20260420T073419
DTSTART:20160706T220000
DTEND:20160706T000000
SUMMARY:Cinema a la fresca a La Lliga
LOCATION:
METHOD:PUBLISH
X-WR-CALNAME:capellades@capellades.cat
X-WR-TIMEZONE:Europe/Madrid
DESCRIPTION:

URI:https://www.capellades.cat/actualitat/agenda/cinema-a-la-fresca-a-la-lliga.html
CLASS:PUBLIC
END:VEVENT
END:VCALENDAR
