BEGIN:VCALENDAR
VERSION:2.0
CALSCALE:GREGORIAN
PRODID:-//Diputació de Barcelona//DibaCMS//EN
BEGIN:VEVENT
UID:894
DTSTAMP:20260420T062145
DTSTART:20160701T200000
DTEND:20160701T000000
SUMMARY:Festa de veïns Nit d'Estiu al carrer Sarrià de Ter
LOCATION:
METHOD:PUBLISH
X-WR-CALNAME:capellades@capellades.cat
X-WR-TIMEZONE:Europe/Madrid
DESCRIPTION:

URI:https://www.capellades.cat/actualitat/agenda/festa-de-veins-nit-destiu-al-carrer-sarria-de-ter.html
CLASS:PUBLIC
END:VEVENT
END:VCALENDAR
