BEGIN:VCALENDAR
VERSION:2.0
CALSCALE:GREGORIAN
PRODID:-//Diputació de Barcelona//DibaCMS//EN
BEGIN:VEVENT
UID:893
DTSTAMP:20260420T073220
DTSTART:20160625T000000
DTEND:20160625T000000
SUMMARY:Anem a Canet Rock amb La Lliga
LOCATION:
METHOD:PUBLISH
X-WR-CALNAME:capellades@capellades.cat
X-WR-TIMEZONE:Europe/Madrid
DESCRIPTION:

URI:https://www.capellades.cat/actualitat/agenda/anem-a-canet-rock-amb-la-lliga.html
CLASS:PUBLIC
END:VEVENT
END:VCALENDAR
