BEGIN:VCALENDAR
VERSION:2.0
CALSCALE:GREGORIAN
PRODID:-//Diputació de Barcelona//DibaCMS//EN
BEGIN:VEVENT
UID:892
DTSTAMP:20260420T042029
DTSTART:20160630T210000
DTEND:20160630T000000
SUMMARY:Sopem Lligats amb el Frederic Prat i la Montse Sabater
LOCATION:
METHOD:PUBLISH
X-WR-CALNAME:capellades@capellades.cat
X-WR-TIMEZONE:Europe/Madrid
DESCRIPTION:

URI:https://www.capellades.cat/actualitat/agenda/sopem-lligats-amb-el-frederic-prat-i-la-montse-sabater.html
CLASS:PUBLIC
END:VEVENT
END:VCALENDAR
