BEGIN:VCALENDAR
VERSION:2.0
CALSCALE:GREGORIAN
PRODID:-//Diputació de Barcelona//DibaCMS//EN
BEGIN:VEVENT
UID:891
DTSTAMP:20260419T194740
DTSTART:20160624T000000
DTEND:20160630T000000
SUMMARY:Matriculació Escola de Música de Capellades
LOCATION:
METHOD:PUBLISH
X-WR-CALNAME:capellades@capellades.cat
X-WR-TIMEZONE:Europe/Madrid
DESCRIPTION:

URI:https://www.capellades.cat/actualitat/agenda/matriculacio-escola-de-musica-de-capellades.html
CLASS:PUBLIC
END:VEVENT
END:VCALENDAR
