BEGIN:VCALENDAR
VERSION:2.0
CALSCALE:GREGORIAN
PRODID:-//Diputació de Barcelona//DibaCMS//EN
BEGIN:VEVENT
UID:888
DTSTAMP:20260419T202109
DTSTART:20160618T090000
DTEND:20160618T210000
SUMMARY:Campionat futbol 7 mixt
LOCATION:
METHOD:PUBLISH
X-WR-CALNAME:capellades@capellades.cat
X-WR-TIMEZONE:Europe/Madrid
DESCRIPTION:

URI:https://www.capellades.cat/actualitat/agenda/campionat-futbol-7-mixt.html
CLASS:PUBLIC
END:VEVENT
END:VCALENDAR
