BEGIN:VCALENDAR
VERSION:2.0
CALSCALE:GREGORIAN
PRODID:-//Diputació de Barcelona//DibaCMS//EN
BEGIN:VEVENT
UID:886
DTSTAMP:20260420T092206
DTSTART:20160623T183000
DTEND:20160623T000000
SUMMARY:Flama del Canigó a Capellades
LOCATION:
METHOD:PUBLISH
X-WR-CALNAME:capellades@capellades.cat
X-WR-TIMEZONE:Europe/Madrid
DESCRIPTION:

URI:https://www.capellades.cat/actualitat/agenda/flama-del-canigo-a-capellades.html
CLASS:PUBLIC
END:VEVENT
END:VCALENDAR
