BEGIN:VCALENDAR
VERSION:2.0
CALSCALE:GREGORIAN
PRODID:-//Diputació de Barcelona//DibaCMS//EN
BEGIN:VEVENT
UID:883
DTSTAMP:20260420T030752
DTSTART:20160621T190000
DTEND:20160621T000000
SUMMARY:Lectura a la fresca a la Biblioteca
LOCATION:
METHOD:PUBLISH
X-WR-CALNAME:capellades@capellades.cat
X-WR-TIMEZONE:Europe/Madrid
DESCRIPTION:Vine a legir els teus contes preferits al terrat de la Biblioteca



 

URI:https://www.capellades.cat/actualitat/agenda/lectura-a-la-fresca-a-la-biblioteca.html
CLASS:PUBLIC
END:VEVENT
END:VCALENDAR
