BEGIN:VCALENDAR
VERSION:2.0
CALSCALE:GREGORIAN
PRODID:-//Diputació de Barcelona//DibaCMS//EN
BEGIN:VEVENT
UID:882
DTSTAMP:20260419T170210
DTSTART:20160619T123000
DTEND:20160619T000000
SUMMARY:Festa final de curs Escola de dansa Dance & Fun
LOCATION:
METHOD:PUBLISH
X-WR-CALNAME:capellades@capellades.cat
X-WR-TIMEZONE:Europe/Madrid
DESCRIPTION:

URI:https://www.capellades.cat/actualitat/agenda/festa-final-de-curs-escola-de-dansa-dance-and-fun.html
CLASS:PUBLIC
END:VEVENT
END:VCALENDAR
