BEGIN:VCALENDAR
VERSION:2.0
CALSCALE:GREGORIAN
PRODID:-//Diputació de Barcelona//DibaCMS//EN
BEGIN:VEVENT
UID:881
DTSTAMP:20260419T232910
DTSTART:20160618T190000
DTEND:20160618T000000
SUMMARY:Concert blues, swing i country blues a la sala Paper de Música
LOCATION:
METHOD:PUBLISH
X-WR-CALNAME:capellades@capellades.cat
X-WR-TIMEZONE:Europe/Madrid
DESCRIPTION:

URI:https://www.capellades.cat/actualitat/agenda/concert-blues-swing-i-country-blues-a-la-sala-paper-de-musica.html
CLASS:PUBLIC
END:VEVENT
END:VCALENDAR
