BEGIN:VCALENDAR
VERSION:2.0
CALSCALE:GREGORIAN
PRODID:-//Diputació de Barcelona//DibaCMS//EN
BEGIN:VEVENT
UID:879
DTSTAMP:20260420T033909
DTSTART:20160617T203000
DTEND:20160617T000000
SUMMARY:Festa final de curs IES Molí de la Vila
LOCATION:
METHOD:PUBLISH
X-WR-CALNAME:capellades@capellades.cat
X-WR-TIMEZONE:Europe/Madrid
DESCRIPTION:

URI:https://www.capellades.cat/actualitat/agenda/festa-final-de-curs-ies-moli-de-la-vila.html
CLASS:PUBLIC
END:VEVENT
END:VCALENDAR
