BEGIN:VCALENDAR
VERSION:2.0
CALSCALE:GREGORIAN
PRODID:-//Diputació de Barcelona//DibaCMS//EN
BEGIN:VEVENT
UID:877
DTSTAMP:20260419T200031
DTSTART:20160612T190000
DTEND:20160612T000000
SUMMARY:Espectacle de tango a La Lliga
LOCATION:
METHOD:PUBLISH
X-WR-CALNAME:capellades@capellades.cat
X-WR-TIMEZONE:Europe/Madrid
DESCRIPTION:

URI:https://www.capellades.cat/actualitat/agenda/espectacle-de-tango-a-la-lliga.html
CLASS:PUBLIC
END:VEVENT
END:VCALENDAR
