BEGIN:VCALENDAR
VERSION:2.0
CALSCALE:GREGORIAN
PRODID:-//Diputació de Barcelona//DibaCMS//EN
BEGIN:VEVENT
UID:876
DTSTAMP:20260419T183048
DTSTART:20160611T180000
DTEND:20160611T000000
SUMMARY:Festa final de curs Escola Marquès de la Pobla
LOCATION:
METHOD:PUBLISH
X-WR-CALNAME:capellades@capellades.cat
X-WR-TIMEZONE:Europe/Madrid
DESCRIPTION:

URI:https://www.capellades.cat/actualitat/agenda/festa-final-de-curs-escola-marques-de-la-pobla.html
CLASS:PUBLIC
END:VEVENT
END:VCALENDAR
