BEGIN:VCALENDAR
VERSION:2.0
CALSCALE:GREGORIAN
PRODID:-//Diputació de Barcelona//DibaCMS//EN
BEGIN:VEVENT
UID:869
DTSTAMP:20260420T041810
DTSTART:20160529T090000
DTEND:20160529T000000
SUMMARY:Cursa BTT Xallenger 2016
LOCATION:
METHOD:PUBLISH
X-WR-CALNAME:capellades@capellades.cat
X-WR-TIMEZONE:Europe/Madrid
DESCRIPTION:





 

URI:https://www.capellades.cat/actualitat/agenda/cursa-btt-xallenger-2016.html
CLASS:PUBLIC
END:VEVENT
END:VCALENDAR
