BEGIN:VCALENDAR
VERSION:2.0
CALSCALE:GREGORIAN
PRODID:-//Diputació de Barcelona//DibaCMS//EN
BEGIN:VEVENT
UID:868
DTSTAMP:20260419T200814
DTSTART:20160529T000000
DTEND:20160529T000000
SUMMARY:Hereu i pubilla de Capellades al FiraAnoia 2016
LOCATION:
METHOD:PUBLISH
X-WR-CALNAME:capellades@capellades.cat
X-WR-TIMEZONE:Europe/Madrid
DESCRIPTION:Capellades participarà a la trobada d'hereus i pubilles de la comarca al FiraAnoia 2016.

En aquesta edició la Pubilleta serà la Martina Martorell Blazquez i l'Hereu el Marc Solé Espeja.





 

 

 

URI:https://www.capellades.cat/actualitat/agenda/hereu-i-pubilla-de-capellades-al-firaanoia-2016.html
CLASS:PUBLIC
END:VEVENT
END:VCALENDAR
