BEGIN:VCALENDAR
VERSION:2.0
CALSCALE:GREGORIAN
PRODID:-//Diputació de Barcelona//DibaCMS//EN
BEGIN:VEVENT
UID:867
DTSTAMP:20260420T054838
DTSTART:20160528T093000
DTEND:20160528T143000
SUMMARY:Trobada final de curs escoles d'hoquei
LOCATION:
METHOD:PUBLISH
X-WR-CALNAME:capellades@capellades.cat
X-WR-TIMEZONE:Europe/Madrid
DESCRIPTION:Trobada de final de curs de les escoles d'hoquei del Penedès, Garraf, Anoia i baix Llobregat al poliesportiu municipal de Capellades



URI:https://www.capellades.cat/actualitat/agenda/trobada-final-de-curs-escoles-dhoquei.html
CLASS:PUBLIC
END:VEVENT
END:VCALENDAR
