BEGIN:VCALENDAR
VERSION:2.0
CALSCALE:GREGORIAN
PRODID:-//Diputació de Barcelona//DibaCMS//EN
BEGIN:VEVENT
UID:857
DTSTAMP:20260420T031934
DTSTART:20160517T090000
DTEND:20160517T140000
SUMMARY:Espai d'estudi a la Biblioteca municipal
LOCATION:
METHOD:PUBLISH
X-WR-CALNAME:capellades@capellades.cat
X-WR-TIMEZONE:Europe/Madrid
DESCRIPTION:

URI:https://www.capellades.cat/actualitat/agenda/espai-destudi-a-la-biblioteca-municipal.html
CLASS:PUBLIC
END:VEVENT
END:VCALENDAR
