BEGIN:VCALENDAR
VERSION:2.0
CALSCALE:GREGORIAN
PRODID:-//Diputació de Barcelona//DibaCMS//EN
BEGIN:VEVENT
UID:856
DTSTAMP:20260420T042000
DTSTART:20160519T190000
DTEND:20160519T000000
SUMMARY:Xerrada a La Lliga sobre la parella 
LOCATION:
METHOD:PUBLISH
X-WR-CALNAME:capellades@capellades.cat
X-WR-TIMEZONE:Europe/Madrid
DESCRIPTION:Xerrada "Com escollim la parella? Els detalls que ens enamoren..."

Prevenció de la dependència emocional i l'abús en les relacions

Es proposa una trobada reflexiva sobre les nostres eleccions de parella, sobre el que busquem en l'altre i el que l'altre busca en nosaltres.
Aquest detall crucial del qual no en sabem res però que ens enamora! Quina és la nostra forma d'escollir parella? Què ens fa pensar que ell o ella és l'home o la dona de la nostra vida? Quina elecció fem i per què?

Tertúlia conduïda per la psicòloga capelladina Vanessa Postigo





 

URI:https://www.capellades.cat/actualitat/agenda/xerrada-a-la-lliga-sobre-la-parella-.html
CLASS:PUBLIC
END:VEVENT
END:VCALENDAR
