BEGIN:VCALENDAR
VERSION:2.0
CALSCALE:GREGORIAN
PRODID:-//Diputació de Barcelona//DibaCMS//EN
BEGIN:VEVENT
UID:852
DTSTAMP:20260420T071350
DTSTART:20160510T193000
DTEND:20160510T000000
SUMMARY:Xerrada sobre les relacions personals i la discapacitat a La Lliga
LOCATION:
METHOD:PUBLISH
X-WR-CALNAME:capellades@capellades.cat
X-WR-TIMEZONE:Europe/Madrid
DESCRIPTION:Xerrada "Millorem les relacions entre persones amb i sense discapacitat"



URI:https://www.capellades.cat/actualitat/agenda/xerrada-sobre-les-relacions-personals-i-la-discapacitat-a-la-lliga.html
CLASS:PUBLIC
END:VEVENT
END:VCALENDAR
