BEGIN:VCALENDAR
VERSION:2.0
CALSCALE:GREGORIAN
PRODID:-//Diputació de Barcelona//DibaCMS//EN
BEGIN:VEVENT
UID:848
DTSTAMP:20260420T071855
DTSTART:20160508T090000
DTEND:20160508T000000
SUMMARY:Sortida en família AMPA Mare del Diví Pastor
LOCATION:
METHOD:PUBLISH
X-WR-CALNAME:capellades@capellades.cat
X-WR-TIMEZONE:Europe/Madrid
DESCRIPTION:Sortida familiar de l'AMPA del Col·legi Mare del Divi Pastor de Capellades als Salts d'aigua de Canaletes





URI:https://www.capellades.cat/actualitat/agenda/sortida-en-familia-ampa-mare-del-divi-pastor.html
CLASS:PUBLIC
END:VEVENT
END:VCALENDAR
