BEGIN:VCALENDAR
VERSION:2.0
CALSCALE:GREGORIAN
PRODID:-//Diputació de Barcelona//DibaCMS//EN
BEGIN:VEVENT
UID:844
DTSTAMP:20260422T144720
DTSTART:20160507T103000
DTEND:20160507T000000
SUMMARY:Taller de màscares de dimoni a La Lliga
LOCATION:
METHOD:PUBLISH
X-WR-CALNAME:capellades@capellades.cat
X-WR-TIMEZONE:Europe/Madrid
DESCRIPTION:Fes la teva màscara de dimoni amb guix i pinta-la com més t'agradi, per poder-la estrenar al Correfoc
de la Festa Major!!!

PORTA ROBA VELLA !!!



 

Preu del taller: socis La Lliga 4€ / no socis 5€.
Inscripcions al tel: 616710323 (tardes de16h a 21h )



URI:https://www.capellades.cat/actualitat/agenda/taller-de-mascares-de-dimoni-a-la-lliga.html
CLASS:PUBLIC
END:VEVENT
END:VCALENDAR
