BEGIN:VCALENDAR
VERSION:2.0
CALSCALE:GREGORIAN
PRODID:-//Diputació de Barcelona//DibaCMS//EN
BEGIN:VEVENT
UID:839
DTSTAMP:20260420T043451
DTSTART:20160430T190000
DTEND:20160430T000000
SUMMARY:Inauguració exposició al Museu Molí Paperer
LOCATION:
METHOD:PUBLISH
X-WR-CALNAME:capellades@capellades.cat
X-WR-TIMEZONE:Europe/Madrid
DESCRIPTION:

URI:https://www.capellades.cat/actualitat/agenda/inauguracio-exposicio-al-museu-moli-paperer.html
CLASS:PUBLIC
END:VEVENT
END:VCALENDAR
