BEGIN:VCALENDAR
VERSION:2.0
CALSCALE:GREGORIAN
PRODID:-//Diputació de Barcelona//DibaCMS//EN
BEGIN:VEVENT
UID:838
DTSTAMP:20260420T091751
DTSTART:20160430T190000
DTEND:20160430T000000
SUMMARY:Concert de primavera a Paper de Música
LOCATION:
METHOD:PUBLISH
X-WR-CALNAME:capellades@capellades.cat
X-WR-TIMEZONE:Europe/Madrid
DESCRIPTION:

URI:https://www.capellades.cat/actualitat/agenda/concert-de-primavera-a-paper-de-musica.html
CLASS:PUBLIC
END:VEVENT
END:VCALENDAR
