BEGIN:VCALENDAR
VERSION:2.0
CALSCALE:GREGORIAN
PRODID:-//Diputació de Barcelona//DibaCMS//EN
BEGIN:VEVENT
UID:835
DTSTAMP:20260419T175525
DTSTART:20160430T190000
DTEND:20160430T000000
SUMMARY:Presentació del llibre Kurdistan el poble del sol a La Lliga
LOCATION:
METHOD:PUBLISH
X-WR-CALNAME:capellades@capellades.cat
X-WR-TIMEZONE:Europe/Madrid
DESCRIPTION:

 

Col·labora 

URI:https://www.capellades.cat/actualitat/agenda/presentacio-del-llibre-kurdistan-el-poble-del-sol-a-la-lliga.html
CLASS:PUBLIC
END:VEVENT
END:VCALENDAR
