BEGIN:VCALENDAR
VERSION:2.0
CALSCALE:GREGORIAN
PRODID:-//Diputació de Barcelona//DibaCMS//EN
BEGIN:VEVENT
UID:833
DTSTAMP:20260419T235955
DTSTART:20160429T200000
DTEND:20160429T000000
SUMMARY:Xerrada sobre la meteorologia de muntanya amb AEMdeKP 
LOCATION:
METHOD:PUBLISH
X-WR-CALNAME:capellades@capellades.cat
X-WR-TIMEZONE:Europe/Madrid
DESCRIPTION:

URI:https://www.capellades.cat/actualitat/agenda/xerrada-sobre-la-meteorologia-de-muntanya-amb-aemdekp-.html
CLASS:PUBLIC
END:VEVENT
END:VCALENDAR
