BEGIN:VCALENDAR
VERSION:2.0
CALSCALE:GREGORIAN
PRODID:-//Diputació de Barcelona//DibaCMS//EN
BEGIN:VEVENT
UID:829
DTSTAMP:20260422T134228
DTSTART:20160428T210000
DTEND:20160428T000000
SUMMARY:Tast de cerveses artesanes a La Lliga
LOCATION:
METHOD:PUBLISH
X-WR-CALNAME:capellades@capellades.cat
X-WR-TIMEZONE:Europe/Madrid
DESCRIPTION:TAST DE CERVESES ARTESANES AMB BERNAT DÀMASO

“L'any 97 descobreixo, a Irlanda, l'apassionant món de les tavernes: cultura cervesera + cultura musical.
El 2005 obrim Cal Macarró-taverna catalana, a Calaf. El 2013 seguim divulgant la cultura cervesera a Nits
de Taverna, a Igualada. L'any 2015 explico la cervesa que venc i distribueixo allà on em demanin...

I avui, a Capellades, content d'estar a La Lliga. Salut i cervesa!”

Hi haurà un petit maridatge. . Inscripcions a la Cafeteria La Lliga

Preu: socis 10 € / no socis 12€

 
 

URI:https://www.capellades.cat/actualitat/agenda/tast-de-cerveses-artesanes-a-la-lliga.html
CLASS:PUBLIC
END:VEVENT
END:VCALENDAR
