BEGIN:VCALENDAR
VERSION:2.0
CALSCALE:GREGORIAN
PRODID:-//Diputació de Barcelona//DibaCMS//EN
BEGIN:VEVENT
UID:826
DTSTAMP:20260421T185802
DTSTART:20160421T193000
DTEND:20160421T000000
SUMMARY:Assemblea oberta pro refugiats
LOCATION:
METHOD:PUBLISH
X-WR-CALNAME:capellades@capellades.cat
X-WR-TIMEZONE:Europe/Madrid
DESCRIPTION:Assemblea oberta

"Organitzem la solidaritat amb les persones refugiades"

El passat 18 de març el Consell Europeu va prendre un acord que vulnera la legislació que protegeix les persones refugiades i posa en joc els drets humans.

Lluny d'aquesta decisió presa pels caps d'estat,  des de l'ajuntament, creiem oportú mostrar la nostra solidaritat com a municipi per tal de donar  suport a les persones refugiades en ruta.

Copsant  les inquietuds de diferents veïns i veïnes davant la indignació pels recents fets i per la precària situació en que es troben les persones desplaçades arrel del conflicte, us emplacem a entitats, associacions , veïns i veïnes a títol individual, per demostrar la solidaritat que ens caracteritza com a poble.

De ben segur que cadascuna de vosaltres ha sentit la impotència davant les resolucions que s'han anat prenent i que posen en joc aquest gran nombre de  vides. Amb la implicació de totes podrem obrir petites escletxes d'esperança, solidaritat i cooperació.

Per aquest motiu us convoquem a participar de l'assemblea oberta      “Organitzem la solidaritat amb les persones refugiades”, que tindrà lloc el proper dia 21 d'abril a les 19:30 a la Sala d'actes de la Biblioteca el Safareig, per tal d'organitzar unes jornades solidàries.

Entre totes, tots, construïm la solidaritat amb les persones refugiades.



URI:https://www.capellades.cat/actualitat/agenda/assemblea-oberta-pro-refugiats.html
CLASS:PUBLIC
END:VEVENT
END:VCALENDAR
