BEGIN:VCALENDAR
VERSION:2.0
CALSCALE:GREGORIAN
PRODID:-//Diputació de Barcelona//DibaCMS//EN
BEGIN:VEVENT
UID:825
DTSTAMP:20260420T090124
DTSTART:20160602T000000
DTEND:20160602T000000
SUMMARY:Festes del Carrer Barri de les Places
LOCATION:
METHOD:PUBLISH
X-WR-CALNAME:capellades@capellades.cat
X-WR-TIMEZONE:Europe/Madrid
DESCRIPTION:Dijous dia 2

Barri de les Places

11.30h Cercavila, passeig I. Concepció i passejada de paneres fins a l'església.

20h Treure Ball plaça Catalunya

URI:https://www.capellades.cat/actualitat/agenda/festes-del-carrer-barri-de-les-places.html
CLASS:PUBLIC
END:VEVENT
END:VCALENDAR
