BEGIN:VCALENDAR
VERSION:2.0
CALSCALE:GREGORIAN
PRODID:-//Diputació de Barcelona//DibaCMS//EN
BEGIN:VEVENT
UID:824
DTSTAMP:20260419T215909
DTSTART:20160414T000000
DTEND:20160414T000000
SUMMARY:Festes del Carrer Barri del Ninot
LOCATION:
METHOD:PUBLISH
X-WR-CALNAME:capellades@capellades.cat
X-WR-TIMEZONE:Europe/Madrid
DESCRIPTION:
URI:https://www.capellades.cat/actualitat/agenda/festes-del-carrer-barri-del-ninot.html
CLASS:PUBLIC
END:VEVENT
END:VCALENDAR
