BEGIN:VCALENDAR
VERSION:2.0
CALSCALE:GREGORIAN
PRODID:-//Diputació de Barcelona//DibaCMS//EN
BEGIN:VEVENT
UID:822
DTSTAMP:20260420T024208
DTSTART:20160530T000000
DTEND:20160530T000000
SUMMARY:Festes del Carrer Barri del Ruc
LOCATION:
METHOD:PUBLISH
X-WR-CALNAME:capellades@capellades.cat
X-WR-TIMEZONE:Europe/Madrid
DESCRIPTION:Dilluns dia 30

Barri del Ruc

11.30h Cercavila, plaça Sant Miquel i passejada de paneres fins a l'església.

20h Treure Ball, pati de La Lliga

URI:https://www.capellades.cat/actualitat/agenda/festes-del-carrer-barri-del-ruc.html
CLASS:PUBLIC
END:VEVENT
END:VCALENDAR
