BEGIN:VCALENDAR
VERSION:2.0
CALSCALE:GREGORIAN
PRODID:-//Diputació de Barcelona//DibaCMS//EN
BEGIN:VEVENT
UID:819
DTSTAMP:20260419T215830
DTSTART:20160527T000000
DTEND:20160527T000000
SUMMARY:Festes del Carrer Pregó
LOCATION:
METHOD:PUBLISH
X-WR-CALNAME:capellades@capellades.cat
X-WR-TIMEZONE:Europe/Madrid
DESCRIPTION:Divendres dia 27

Pregó inici de Festes 

a càrrec de.....

21h Cercavila i presentació, Inici a la pl. Àngel Guimerà - Major - pl. Verdaguer

URI:https://www.capellades.cat/actualitat/agenda/festes-del-carrer-prego.html
CLASS:PUBLIC
END:VEVENT
END:VCALENDAR
