BEGIN:VCALENDAR
VERSION:2.0
CALSCALE:GREGORIAN
PRODID:-//Diputació de Barcelona//DibaCMS//EN
BEGIN:VEVENT
UID:818
DTSTAMP:20260420T054756
DTSTART:20160424T121500
DTEND:20160424T000000
SUMMARY:Concert d'orgue de Sant Jordi
LOCATION:
METHOD:PUBLISH
X-WR-CALNAME:capellades@capellades.cat
X-WR-TIMEZONE:Europe/Madrid
DESCRIPTION: 



 

URI:https://www.capellades.cat/actualitat/agenda/concert-dorgue-de-sant-jordi.html
CLASS:PUBLIC
END:VEVENT
END:VCALENDAR
