BEGIN:VCALENDAR
VERSION:2.0
CALSCALE:GREGORIAN
PRODID:-//Diputació de Barcelona//DibaCMS//EN
BEGIN:VEVENT
UID:817
DTSTAMP:20260419T200941
DTSTART:20160423T100000
DTEND:20160423T140000
SUMMARY:Sant Jordi 2016
LOCATION:
METHOD:PUBLISH
X-WR-CALNAME:capellades@capellades.cat
X-WR-TIMEZONE:Europe/Madrid
DESCRIPTION:

Sant Jordi 2016 a Capellades


	
	Parades de comerços i entitats amb venda de llibres, roses i pastissos
	
	
	Tallers de manualitats per a petits i grans
	
	
	Espai Biblioteca amb lectura de contes, promocions i signatura de llibres
	
	
	Degustació del "vermut de St. Jordi" a càrrec de la Bodega J. Torres i Ca l'Angelillo
	
	
	Concert amb el Grup "Igualada Latin Jazz Band"
	


 

URI:https://www.capellades.cat/actualitat/agenda/sant-jordi-2016.html
CLASS:PUBLIC
END:VEVENT
END:VCALENDAR
