BEGIN:VCALENDAR
VERSION:2.0
CALSCALE:GREGORIAN
PRODID:-//Diputació de Barcelona//DibaCMS//EN
BEGIN:VEVENT
UID:813
DTSTAMP:20260419T181203
DTSTART:20160417T100000
DTEND:20160417T000000
SUMMARY:Festa d'exalumnes del Col·legi Mare del Diví Pastor
LOCATION:
METHOD:PUBLISH
X-WR-CALNAME:capellades@capellades.cat
X-WR-TIMEZONE:Europe/Madrid
DESCRIPTION:

URI:https://www.capellades.cat/actualitat/agenda/festa-dexalumnes-del-collegi-mare-del-divi-pastor.html
CLASS:PUBLIC
END:VEVENT
END:VCALENDAR
