BEGIN:VCALENDAR
VERSION:2.0
CALSCALE:GREGORIAN
PRODID:-//Diputació de Barcelona//DibaCMS//EN
BEGIN:VEVENT
UID:812
DTSTAMP:20260420T013004
DTSTART:20160420T100000
DTEND:20160420T200000
SUMMARY:Museu Molí Paperer a Arts Libris Barcelona 2016
LOCATION:
METHOD:PUBLISH
X-WR-CALNAME:capellades@capellades.cat
X-WR-TIMEZONE:Europe/Madrid
DESCRIPTION:

El Museu Molí Paperer de Capellades participa a ArtsLibris / Barcelona

Fira Internacional de l'Edició Contemporània

El MMP de Capellades participarà amb un estand, amb venda i mostra de productes, a la setena edició d'ArtsLibris, Fira Internacional de l'Edició Contemporània, que se celebrarà del 20 al 24 d'abril a l'Arts Santa Mònica – Centre de la Creativitat. 

A ArtsLibris podem trobar llibres d'artista, fotollibre, la bibliofília contemporània, juntament amb altres formats afins com les edicions d'artista, i l'heterogeni ventall de printed matter creat per artistes dels segles XX i XXI recuperen el protagonisme i ens remeten a l'essència de la fira.

 

 

URI:https://www.capellades.cat/actualitat/agenda/museu-moli-paperer-a-arts-libris-barcelona-2016.html
CLASS:PUBLIC
END:VEVENT
END:VCALENDAR
