BEGIN:VCALENDAR
VERSION:2.0
CALSCALE:GREGORIAN
PRODID:-//Diputació de Barcelona//DibaCMS//EN
BEGIN:VEVENT
UID:811
DTSTAMP:20260420T091924
DTSTART:20160419T190000
DTEND:20160419T000000
SUMMARY:Presentació de llibre a la Biblioteca
LOCATION:
METHOD:PUBLISH
X-WR-CALNAME:capellades@capellades.cat
X-WR-TIMEZONE:Europe/Madrid
DESCRIPTION:Presentació del llibre "Escoles a la frontera" de M. Carme Junyent

M. Carme Junyent (Masquefa, 1955), llicenciada i professora a la UB, explica l'experiència d'un any i mig que la va portar a visitar totes les escoles de l'Anoia: reflexiona sobre el sentit de frontera en aquest territori, sobre l'ús de la llengua, com és la gent de cada poble, quines històries familiars hi ha al darrere... L'autora passa del retrobament inicial a la identificació.



URI:https://www.capellades.cat/actualitat/agenda/presentacio-de-llibre-a-la-biblioteca.html
CLASS:PUBLIC
END:VEVENT
END:VCALENDAR
