BEGIN:VCALENDAR
VERSION:2.0
CALSCALE:GREGORIAN
PRODID:-//Diputació de Barcelona//DibaCMS//EN
BEGIN:VEVENT
UID:808
DTSTAMP:20260420T042619
DTSTART:20160414T160000
DTEND:20160414T190000
SUMMARY:Nova visita del SIAD
LOCATION:
METHOD:PUBLISH
X-WR-CALNAME:capellades@capellades.cat
X-WR-TIMEZONE:Europe/Madrid
DESCRIPTION:El dijous 14 d'abril és previst que hi hagi una nova visita del SIAD, el Servei d'Informació i Atenció a la Dona del Consell Comarcal de l'Anoia.

Amb cita prèvia, al 636.365.631, es resoldran dubtes i s'atendrà a totes les dones que necessitin assessorament legal, psicològic o d'altres.

URI:https://www.capellades.cat/actualitat/agenda/nova-visita-del-siad.html
CLASS:PUBLIC
END:VEVENT
END:VCALENDAR
