BEGIN:VCALENDAR
VERSION:2.0
CALSCALE:GREGORIAN
PRODID:-//Diputació de Barcelona//DibaCMS//EN
BEGIN:VEVENT
UID:805
DTSTAMP:20260420T061235
DTSTART:20160410T074500
DTEND:20160410T000000
SUMMARY:Sortida de la Penya Blaugrana
LOCATION:
METHOD:PUBLISH
X-WR-CALNAME:capellades@capellades.cat
X-WR-TIMEZONE:Europe/Madrid
DESCRIPTION:La Penya Blaugrana de Capellades anirà d'excursió aquest diumenge a Barcelona. Primer es visitarà el Pau de la Música i després la Cripta Gaudí de la Colònia Güell.

L'hora prevista de sortida és les 07:45, a l'esplanada del Capelló.

URI:https://www.capellades.cat/actualitat/agenda/sortida-de-la-penya-blaugrana.html
CLASS:PUBLIC
END:VEVENT
END:VCALENDAR
