BEGIN:VCALENDAR
VERSION:2.0
CALSCALE:GREGORIAN
PRODID:-//Diputació de Barcelona//DibaCMS//EN
BEGIN:VEVENT
UID:804
DTSTAMP:20260420T054826
DTSTART:20160409T000000
DTEND:20160409T000000
SUMMARY:El Grup Teatral, a Arenys de Mar
LOCATION:
METHOD:PUBLISH
X-WR-CALNAME:capellades@capellades.cat
X-WR-TIMEZONE:Europe/Madrid
DESCRIPTION:El Grup Teatral de Capellades serà present a la cloenda i al lliurament de premis del 44è. Concurs de Teatre Amateur "Premi Vila Arenys de Mar".

Aquest dissabte a les 10 del vespre.

URI:https://www.capellades.cat/actualitat/agenda/el-grup-teatral-a-arenys-de-mar.html
CLASS:PUBLIC
END:VEVENT
END:VCALENDAR
