BEGIN:VCALENDAR
VERSION:2.0
CALSCALE:GREGORIAN
PRODID:-//Diputació de Barcelona//DibaCMS//EN
BEGIN:VEVENT
UID:803
DTSTAMP:20260419T200353
DTSTART:20160406T173000
DTEND:20160406T000000
SUMMARY:Taller de música per a nadons i per a infants
LOCATION:
METHOD:PUBLISH
X-WR-CALNAME:capellades@capellades.cat
X-WR-TIMEZONE:Europe/Madrid
DESCRIPTION:

URI:https://www.capellades.cat/actualitat/agenda/taller-de-musica-per-a-nadons-i-per-a-infants.html
CLASS:PUBLIC
END:VEVENT
END:VCALENDAR
