BEGIN:VCALENDAR
VERSION:2.0
CALSCALE:GREGORIAN
PRODID:-//Diputació de Barcelona//DibaCMS//EN
BEGIN:VEVENT
UID:800
DTSTAMP:20260419T212813
DTSTART:20160406T090000
DTEND:20160406T123000
SUMMARY:Any Roald Dahl a l'escola
LOCATION:
METHOD:PUBLISH
X-WR-CALNAME:capellades@capellades.cat
X-WR-TIMEZONE:Europe/Madrid
DESCRIPTION:Dins les activitats de l'Any Roald Dahl, l'escola Marquès de la Pobla ha organitzat una matinal d'activitats sobre l'obra d'aquest autor comptant amb l'assistència de l'escriptora, mestra i filòloga Elena O'Callaghan.

Elena O'Callaghan i Duch és mestra, llicenciada en Filosofia i Ciències de l'Educació i llicenciada en Filologia Catalana. Ha treballat a l'ensenyament i al món editorial, tot fent d'editora i de directora literària de literatura infantil i juvenil.

Ha publicat contes i novel.les per a infants i per a adults, així com poesies, peces teatrals, articles pedagògics i de crítica literària a revistes especialitzades. Ha publicat també diversos llibres de text.

Ha guanyat diversos premis ("El Vaixell de Vapor", Premi Lletres de l'Associació d'Amics de les Lletres i de les Arts,...) i ha estat reconeguda internacio-nalment diverses vegades (llista d'honor de l' IBBY, Whitte Ravens, de la Biblioteca Internacional de Munich,...).

Com a escriptora, té editats gairebé una trentena de llibres, alguns traduïts a altres llengües. Com a traductora, ha traduït del castellà, de l'anglès i del francès.





 

URI:https://www.capellades.cat/actualitat/agenda/any-roald-dahl-a-lescola.html
CLASS:PUBLIC
END:VEVENT
END:VCALENDAR
