BEGIN:VCALENDAR
VERSION:2.0
CALSCALE:GREGORIAN
PRODID:-//Diputació de Barcelona//DibaCMS//EN
BEGIN:VEVENT
UID:795
DTSTAMP:20260420T054852
DTSTART:20160327T000000
DTEND:20160327T000000
SUMMARY:Cantada de Caramelles amb la Coral Xeremell
LOCATION:
METHOD:PUBLISH
X-WR-CALNAME:capellades@capellades.cat
X-WR-TIMEZONE:Europe/Madrid
DESCRIPTION:Cantada de les tradicionals Caramelles de Pasqua amb la Coral Xeremell

Diumenge 27 de març

Mati (10h): Cantada de Caramelles per carrers i places del poble

Migdia (12.30h): Cantada de Caramelles a la cafeteria de La Lliga

 

 

URI:https://www.capellades.cat/actualitat/agenda/cantada-de-caramelles-amb-la-coral-xeremell.html
CLASS:PUBLIC
END:VEVENT
END:VCALENDAR
