BEGIN:VCALENDAR
VERSION:2.0
CALSCALE:GREGORIAN
PRODID:-//Diputació de Barcelona//DibaCMS//EN
BEGIN:VEVENT
UID:792
DTSTAMP:20260420T022033
DTSTART:20160322T180000
DTEND:20160322T193000
SUMMARY:Cinema infantil a la Biblioteca
LOCATION:
METHOD:PUBLISH
X-WR-CALNAME:capellades@capellades.cat
X-WR-TIMEZONE:Europe/Madrid
DESCRIPTION:Vine a la Biblioteca, vota entre aquestes tres propostes i decideix quina "peli" passarem !!!







 

URI:https://www.capellades.cat/actualitat/agenda/cinema-infantil-a-la-biblioteca.html
CLASS:PUBLIC
END:VEVENT
END:VCALENDAR
