BEGIN:VCALENDAR
VERSION:2.0
CALSCALE:GREGORIAN
PRODID:-//Diputació de Barcelona//DibaCMS//EN
BEGIN:VEVENT
UID:789
DTSTAMP:20260420T060212
DTSTART:20160319T190000
DTEND:20160319T000000
SUMMARY:Recital de Piano a la Sala Paper de Música
LOCATION:
METHOD:PUBLISH
X-WR-CALNAME:capellades@capellades.cat
X-WR-TIMEZONE:Europe/Madrid
DESCRIPTION:

URI:https://www.capellades.cat/actualitat/agenda/recital-de-piano-a-la-sala-paper-de-musica.html
CLASS:PUBLIC
END:VEVENT
END:VCALENDAR
