BEGIN:VCALENDAR
VERSION:2.0
CALSCALE:GREGORIAN
PRODID:-//Diputació de Barcelona//DibaCMS//EN
BEGIN:VEVENT
UID:787
DTSTAMP:20260419T214246
DTSTART:20160318T193000
DTEND:20160318T000000
SUMMARY:Trobada oberta per parlar del model de Festa Major
LOCATION:
METHOD:PUBLISH
X-WR-CALNAME:capellades@capellades.cat
X-WR-TIMEZONE:Europe/Madrid
DESCRIPTION:La Regidoria de Festes convoca als capelladins i capelladines, entitats i colles a una trobada per debatre sobre el model de la Festa Major de Capellades



URI:https://www.capellades.cat/actualitat/agenda/trobada-oberta-per-parlar-del-model-de-festa-major.html
CLASS:PUBLIC
END:VEVENT
END:VCALENDAR
