BEGIN:VCALENDAR
VERSION:2.0
CALSCALE:GREGORIAN
PRODID:-//Diputació de Barcelona//DibaCMS//EN
BEGIN:VEVENT
UID:786
DTSTAMP:20260420T043556
DTSTART:20160312T000000
DTEND:20160312T000000
SUMMARY:Caramelles amb la Coral Xeremell
LOCATION:
METHOD:PUBLISH
X-WR-CALNAME:capellades@capellades.cat
X-WR-TIMEZONE:Europe/Madrid
DESCRIPTION:Assajos oberts de Caramelles de la Coral Xeremell a Cal Ponet, de 12h a 13h, de P3 fins a 4rt de primària.

Anima't a cantar amb nosaltres!!!



URI:https://www.capellades.cat/actualitat/agenda/caramelles-amb-la-coral-xeremell.html
CLASS:PUBLIC
END:VEVENT
END:VCALENDAR
