BEGIN:VCALENDAR
VERSION:2.0
CALSCALE:GREGORIAN
PRODID:-//Diputació de Barcelona//DibaCMS//EN
BEGIN:VEVENT
UID:785
DTSTAMP:20260419T235005
DTSTART:20160317T190000
DTEND:20160317T000000
SUMMARY:Xerrada informativa a La Lliga  sobre els drets dels consumidors 
LOCATION:
METHOD:PUBLISH
X-WR-CALNAME:capellades@capellades.cat
X-WR-TIMEZONE:Europe/Madrid
DESCRIPTION:El dia 15 de març es commemora el dia mundial dels consumidors i de la defensa dels nostres drets com a tals. Per aquest motiu organitzem una xerrada informativa d'aquest tema tan ampli
i que ens afecta a tots i a totes.



URI:https://www.capellades.cat/actualitat/agenda/xerrada-informativa-a-la-lliga-sobre-els-drets-dels-consumidors-.html
CLASS:PUBLIC
END:VEVENT
END:VCALENDAR
